BEGIN:VCALENDAR
VERSION:2.0
PRODID:-// - ECPv6.15.20//NONSGML v1.0//EN
CALSCALE:GREGORIAN
METHOD:PUBLISH
X-ORIGINAL-URL:https://backyardsportsbarmb.com
X-WR-CALDESC:Events for 
REFRESH-INTERVAL;VALUE=DURATION:PT1H
X-Robots-Tag:noindex
X-PUBLISHED-TTL:PT1H
BEGIN:VTIMEZONE
TZID:America/New_York
BEGIN:DAYLIGHT
TZOFFSETFROM:-0500
TZOFFSETTO:-0400
TZNAME:EDT
DTSTART:20250309T070000
END:DAYLIGHT
BEGIN:STANDARD
TZOFFSETFROM:-0400
TZOFFSETTO:-0500
TZNAME:EST
DTSTART:20251102T060000
END:STANDARD
BEGIN:DAYLIGHT
TZOFFSETFROM:-0500
TZOFFSETTO:-0400
TZNAME:EDT
DTSTART:20260308T070000
END:DAYLIGHT
BEGIN:STANDARD
TZOFFSETFROM:-0400
TZOFFSETTO:-0500
TZNAME:EST
DTSTART:20261101T060000
END:STANDARD
BEGIN:DAYLIGHT
TZOFFSETFROM:-0500
TZOFFSETTO:-0400
TZNAME:EDT
DTSTART:20270314T070000
END:DAYLIGHT
BEGIN:STANDARD
TZOFFSETFROM:-0400
TZOFFSETTO:-0500
TZNAME:EST
DTSTART:20271107T060000
END:STANDARD
END:VTIMEZONE
BEGIN:VEVENT
DTSTART;TZID=America/New_York:20260521T180000
DTEND;TZID=America/New_York:20260521T210000
DTSTAMP:20260421T042425
CREATED:20260128T153459Z
LAST-MODIFIED:20260128T153459Z
UID:10000389-1779386400-1779397200@backyardsportsbarmb.com
SUMMARY:Andrew Porter
DESCRIPTION:
URL:https://backyardsportsbarmb.com/event/andrew-porter/2026-05-21/
CATEGORIES:Live Music
END:VEVENT
BEGIN:VEVENT
DTSTART;TZID=America/New_York:20260624T180000
DTEND;TZID=America/New_York:20260624T210000
DTSTAMP:20260421T042425
CREATED:20260128T153459Z
LAST-MODIFIED:20260128T153459Z
UID:10000390-1782324000-1782334800@backyardsportsbarmb.com
SUMMARY:Andrew Porter
DESCRIPTION:
URL:https://backyardsportsbarmb.com/event/andrew-porter/2026-06-24/
CATEGORIES:Live Music
END:VEVENT
BEGIN:VEVENT
DTSTART;TZID=America/New_York:20260722T180000
DTEND;TZID=America/New_York:20260722T210000
DTSTAMP:20260421T042425
CREATED:20260128T153459Z
LAST-MODIFIED:20260128T153459Z
UID:10000391-1784743200-1784754000@backyardsportsbarmb.com
SUMMARY:Andrew Porter
DESCRIPTION:
URL:https://backyardsportsbarmb.com/event/andrew-porter/2026-07-22/
CATEGORIES:Live Music
END:VEVENT
BEGIN:VEVENT
DTSTART;TZID=America/New_York:20260826T180000
DTEND;TZID=America/New_York:20260826T210000
DTSTAMP:20260421T042425
CREATED:20260128T153459Z
LAST-MODIFIED:20260128T153459Z
UID:10000392-1787767200-1787778000@backyardsportsbarmb.com
SUMMARY:Andrew Porter
DESCRIPTION:
URL:https://backyardsportsbarmb.com/event/andrew-porter/2026-08-26/
CATEGORIES:Live Music
END:VEVENT
BEGIN:VEVENT
DTSTART;TZID=America/New_York:20260923T170000
DTEND;TZID=America/New_York:20260923T200000
DTSTAMP:20260421T042425
CREATED:20260128T153459Z
LAST-MODIFIED:20260128T153459Z
UID:10000393-1790182800-1790193600@backyardsportsbarmb.com
SUMMARY:Andrew Porter
DESCRIPTION:
URL:https://backyardsportsbarmb.com/event/andrew-porter/2026-09-23/
CATEGORIES:Live Music
END:VEVENT
BEGIN:VEVENT
DTSTART;TZID=America/New_York:20261021T170000
DTEND;TZID=America/New_York:20261021T200000
DTSTAMP:20260421T042425
CREATED:20260128T153459Z
LAST-MODIFIED:20260128T153459Z
UID:10000394-1792602000-1792612800@backyardsportsbarmb.com
SUMMARY:Andrew Porter
DESCRIPTION:
URL:https://backyardsportsbarmb.com/event/andrew-porter/2026-10-21/
CATEGORIES:Live Music
END:VEVENT
BEGIN:VEVENT
DTSTART;TZID=America/New_York:20261125T170000
DTEND;TZID=America/New_York:20261125T200000
DTSTAMP:20260421T042425
CREATED:20260128T153459Z
LAST-MODIFIED:20260128T153459Z
UID:10000395-1795626000-1795636800@backyardsportsbarmb.com
SUMMARY:Andrew Porter
DESCRIPTION:
URL:https://backyardsportsbarmb.com/event/andrew-porter/2026-11-25/
CATEGORIES:Live Music
END:VEVENT
BEGIN:VEVENT
DTSTART;TZID=America/New_York:20261216T170000
DTEND;TZID=America/New_York:20261216T200000
DTSTAMP:20260421T042425
CREATED:20260128T153459Z
LAST-MODIFIED:20260128T153459Z
UID:10000396-1797440400-1797451200@backyardsportsbarmb.com
SUMMARY:Andrew Porter
DESCRIPTION:
URL:https://backyardsportsbarmb.com/event/andrew-porter/2026-12-16/
CATEGORIES:Live Music
END:VEVENT
END:VCALENDAR