BEGIN:VCALENDAR
VERSION:2.0
PRODID:-// - ECPv6.15.20//NONSGML v1.0//EN
CALSCALE:GREGORIAN
METHOD:PUBLISH
X-ORIGINAL-URL:https://backyardsportsbarmb.com
X-WR-CALDESC:Events for 
REFRESH-INTERVAL;VALUE=DURATION:PT1H
X-Robots-Tag:noindex
X-PUBLISHED-TTL:PT1H
BEGIN:VTIMEZONE
TZID:America/New_York
BEGIN:DAYLIGHT
TZOFFSETFROM:-0500
TZOFFSETTO:-0400
TZNAME:EDT
DTSTART:20250309T070000
END:DAYLIGHT
BEGIN:STANDARD
TZOFFSETFROM:-0400
TZOFFSETTO:-0500
TZNAME:EST
DTSTART:20251102T060000
END:STANDARD
BEGIN:DAYLIGHT
TZOFFSETFROM:-0500
TZOFFSETTO:-0400
TZNAME:EDT
DTSTART:20260308T070000
END:DAYLIGHT
BEGIN:STANDARD
TZOFFSETFROM:-0400
TZOFFSETTO:-0500
TZNAME:EST
DTSTART:20261101T060000
END:STANDARD
BEGIN:DAYLIGHT
TZOFFSETFROM:-0500
TZOFFSETTO:-0400
TZNAME:EDT
DTSTART:20270314T070000
END:DAYLIGHT
BEGIN:STANDARD
TZOFFSETFROM:-0400
TZOFFSETTO:-0500
TZNAME:EST
DTSTART:20271107T060000
END:STANDARD
END:VTIMEZONE
BEGIN:VEVENT
DTSTART;TZID=America/New_York:20260128T170000
DTEND;TZID=America/New_York:20260128T200000
DTSTAMP:20260421T043930
CREATED:20260128T142613Z
LAST-MODIFIED:20260202T134936Z
UID:10000297-1769619600-1769630400@backyardsportsbarmb.com
SUMMARY:Kennady Murlin
DESCRIPTION:
URL:https://backyardsportsbarmb.com/event/kennady-murlin/2026-01-28/
CATEGORIES:Live Music
END:VEVENT
BEGIN:VEVENT
DTSTART;TZID=America/New_York:20260129T170000
DTEND;TZID=America/New_York:20260129T200000
DTSTAMP:20260421T043930
CREATED:20260128T142928Z
LAST-MODIFIED:20260128T142928Z
UID:10000308-1769706000-1769716800@backyardsportsbarmb.com
SUMMARY:Lauren Ross
DESCRIPTION:
URL:https://backyardsportsbarmb.com/event/lauren-ross/
CATEGORIES:Live Music
END:VEVENT
BEGIN:VEVENT
DTSTART;TZID=America/New_York:20260130T170000
DTEND;TZID=America/New_York:20260130T200000
DTSTAMP:20260421T043930
CREATED:20260128T143341Z
LAST-MODIFIED:20260128T143341Z
UID:10000309-1769792400-1769803200@backyardsportsbarmb.com
SUMMARY:Marcus Cannon
DESCRIPTION:
URL:https://backyardsportsbarmb.com/event/marcus-cannon-3/2026-01-30/
CATEGORIES:Live Music
END:VEVENT
BEGIN:VEVENT
DTSTART;TZID=America/New_York:20260131T170000
DTEND;TZID=America/New_York:20260131T200000
DTSTAMP:20260421T043930
CREATED:20260128T143546Z
LAST-MODIFIED:20260128T143546Z
UID:10000321-1769878800-1769889600@backyardsportsbarmb.com
SUMMARY:Josh Watford
DESCRIPTION:
URL:https://backyardsportsbarmb.com/event/josh-watford/
CATEGORIES:Live Music
END:VEVENT
END:VCALENDAR