BEGIN:VCALENDAR
VERSION:2.0
PRODID:-// - ECPv6.15.20//NONSGML v1.0//EN
CALSCALE:GREGORIAN
METHOD:PUBLISH
X-ORIGINAL-URL:https://backyardsportsbarmb.com
X-WR-CALDESC:Events for 
REFRESH-INTERVAL;VALUE=DURATION:PT1H
X-Robots-Tag:noindex
X-PUBLISHED-TTL:PT1H
BEGIN:VTIMEZONE
TZID:America/New_York
BEGIN:DAYLIGHT
TZOFFSETFROM:-0500
TZOFFSETTO:-0400
TZNAME:EDT
DTSTART:20240310T070000
END:DAYLIGHT
BEGIN:STANDARD
TZOFFSETFROM:-0400
TZOFFSETTO:-0500
TZNAME:EST
DTSTART:20241103T060000
END:STANDARD
BEGIN:DAYLIGHT
TZOFFSETFROM:-0500
TZOFFSETTO:-0400
TZNAME:EDT
DTSTART:20250309T070000
END:DAYLIGHT
BEGIN:STANDARD
TZOFFSETFROM:-0400
TZOFFSETTO:-0500
TZNAME:EST
DTSTART:20251102T060000
END:STANDARD
BEGIN:DAYLIGHT
TZOFFSETFROM:-0500
TZOFFSETTO:-0400
TZNAME:EDT
DTSTART:20260308T070000
END:DAYLIGHT
BEGIN:STANDARD
TZOFFSETFROM:-0400
TZOFFSETTO:-0500
TZNAME:EST
DTSTART:20261101T060000
END:STANDARD
END:VTIMEZONE
BEGIN:VEVENT
DTSTART;TZID=America/New_York:20250205T170000
DTEND;TZID=America/New_York:20250205T200000
DTSTAMP:20260423T035511
CREATED:20250106T201907Z
LAST-MODIFIED:20250106T201907Z
UID:10000028-1738774800-1738785600@backyardsportsbarmb.com
SUMMARY:Austin Perry
DESCRIPTION:
URL:https://backyardsportsbarmb.com/event/austin-perry-2/2025-02-05/
CATEGORIES:Live Music
END:VEVENT
BEGIN:VEVENT
DTSTART;TZID=America/New_York:20250206T170000
DTEND;TZID=America/New_York:20250206T200000
DTSTAMP:20260423T035511
CREATED:20250106T205312Z
LAST-MODIFIED:20250106T205312Z
UID:10000079-1738861200-1738872000@backyardsportsbarmb.com
SUMMARY:Geoff Gates
DESCRIPTION:
URL:https://backyardsportsbarmb.com/event/geoff-gates/2025-02-06/
CATEGORIES:Live Music
END:VEVENT
BEGIN:VEVENT
DTSTART;TZID=America/New_York:20250207T170000
DTEND;TZID=America/New_York:20250207T200000
DTSTAMP:20260423T035511
CREATED:20250106T202126Z
LAST-MODIFIED:20250106T202126Z
UID:10000033-1738947600-1738958400@backyardsportsbarmb.com
SUMMARY:Greg Dalton
DESCRIPTION:
URL:https://backyardsportsbarmb.com/event/greg-dalton-2/2025-02-07/
CATEGORIES:Live Music
END:VEVENT
BEGIN:VEVENT
DTSTART;TZID=America/New_York:20250212T170000
DTEND;TZID=America/New_York:20250212T200000
DTSTAMP:20260423T035511
CREATED:20250106T202626Z
LAST-MODIFIED:20250106T202626Z
UID:10000043-1739379600-1739390400@backyardsportsbarmb.com
SUMMARY:Brendan Kirby
DESCRIPTION:
URL:https://backyardsportsbarmb.com/event/brendan-kirby/2025-02-12/
CATEGORIES:Live Music
END:VEVENT
BEGIN:VEVENT
DTSTART;TZID=America/New_York:20250213T170000
DTEND;TZID=America/New_York:20250213T200000
DTSTAMP:20260423T035511
CREATED:20250106T204913Z
LAST-MODIFIED:20250106T204913Z
UID:10000069-1739466000-1739476800@backyardsportsbarmb.com
SUMMARY:Ronnie O'Briant
DESCRIPTION:
URL:https://backyardsportsbarmb.com/event/ronnie-obriant/2025-02-13/
CATEGORIES:Live Music
END:VEVENT
BEGIN:VEVENT
DTSTART;TZID=America/New_York:20250214T170000
DTEND;TZID=America/New_York:20250214T200000
DTSTAMP:20260423T035511
CREATED:20250106T202419Z
LAST-MODIFIED:20250106T202419Z
UID:10000038-1739552400-1739563200@backyardsportsbarmb.com
SUMMARY:Zachary Patton
DESCRIPTION:
URL:https://backyardsportsbarmb.com/event/zachary-patton/2025-02-14/
CATEGORIES:Live Music
END:VEVENT
BEGIN:VEVENT
DTSTART;TZID=America/New_York:20250215T170000
DTEND;TZID=America/New_York:20250215T200000
DTSTAMP:20260423T035511
CREATED:20250106T201604Z
LAST-MODIFIED:20250106T201604Z
UID:10000024-1739638800-1739649600@backyardsportsbarmb.com
SUMMARY:JP Taylor
DESCRIPTION:
URL:https://backyardsportsbarmb.com/event/jp-taylor/2025-02-15/
CATEGORIES:Live Music
END:VEVENT
BEGIN:VEVENT
DTSTART;TZID=America/New_York:20250219T170000
DTEND;TZID=America/New_York:20250219T200000
DTSTAMP:20260423T035511
CREATED:20250106T204515Z
LAST-MODIFIED:20250106T204515Z
UID:10000061-1739984400-1739995200@backyardsportsbarmb.com
SUMMARY:Randy Clifton
DESCRIPTION:
URL:https://backyardsportsbarmb.com/event/randy-clifton/2025-02-19/
CATEGORIES:Live Music
END:VEVENT
BEGIN:VEVENT
DTSTART;TZID=America/New_York:20250220T170000
DTEND;TZID=America/New_York:20250220T200000
DTSTAMP:20260423T035511
CREATED:20250106T205518Z
LAST-MODIFIED:20250106T205518Z
UID:10000083-1740070800-1740081600@backyardsportsbarmb.com
SUMMARY:Willie Weeks
DESCRIPTION:
URL:https://backyardsportsbarmb.com/event/willie-weeks-2/2025-02-20/
CATEGORIES:Live Music
END:VEVENT
BEGIN:VEVENT
DTSTART;TZID=America/New_York:20250221T170000
DTEND;TZID=America/New_York:20250221T200000
DTSTAMP:20260423T035511
CREATED:20250106T202835Z
LAST-MODIFIED:20250106T202835Z
UID:10000048-1740157200-1740168000@backyardsportsbarmb.com
SUMMARY:Davy Stone
DESCRIPTION:
URL:https://backyardsportsbarmb.com/event/davy-stone/2025-02-21/
CATEGORIES:Live Music
END:VEVENT
BEGIN:VEVENT
DTSTART;TZID=America/New_York:20250222T170000
DTEND;TZID=America/New_York:20250222T200000
DTSTAMP:20260423T035511
CREATED:20250106T210534Z
LAST-MODIFIED:20250106T210534Z
UID:10000088-1740243600-1740254400@backyardsportsbarmb.com
SUMMARY:Jeremiah Reyes
DESCRIPTION:
URL:https://backyardsportsbarmb.com/event/jeremiah-reyes/2025-02-22/
CATEGORIES:Live Music
END:VEVENT
BEGIN:VEVENT
DTSTART;TZID=America/New_York:20250226T170000
DTEND;TZID=America/New_York:20250226T200000
DTSTAMP:20260423T035511
CREATED:20250106T203230Z
LAST-MODIFIED:20250106T203230Z
UID:10000055-1740589200-1740600000@backyardsportsbarmb.com
SUMMARY:Matt Lambe
DESCRIPTION:
URL:https://backyardsportsbarmb.com/event/matt-lambe-2/2025-02-26/
CATEGORIES:Live Music
END:VEVENT
BEGIN:VEVENT
DTSTART;TZID=America/New_York:20250227T170000
DTEND;TZID=America/New_York:20250227T200000
DTSTAMP:20260423T035511
CREATED:20250106T210849Z
LAST-MODIFIED:20250106T210849Z
UID:10000090-1740675600-1740686400@backyardsportsbarmb.com
SUMMARY:Paul Grimshaw
DESCRIPTION:
URL:https://backyardsportsbarmb.com/event/paul-grimshaw-2/2025-02-27/
CATEGORIES:Live Music
END:VEVENT
BEGIN:VEVENT
DTSTART;TZID=America/New_York:20250228T170000
DTEND;TZID=America/New_York:20250228T200000
DTSTAMP:20260423T035511
CREATED:20250106T205055Z
LAST-MODIFIED:20250106T205055Z
UID:10000075-1740762000-1740772800@backyardsportsbarmb.com
SUMMARY:Owen Reeves
DESCRIPTION:
URL:https://backyardsportsbarmb.com/event/owen-reeves-2/2025-02-28/
CATEGORIES:Live Music
END:VEVENT
END:VCALENDAR