BEGIN:VCALENDAR
VERSION:2.0
PRODID:-// - ECPv6.15.20//NONSGML v1.0//EN
CALSCALE:GREGORIAN
METHOD:PUBLISH
X-ORIGINAL-URL:https://backyardsportsbarmb.com
X-WR-CALDESC:Events for 
REFRESH-INTERVAL;VALUE=DURATION:PT1H
X-Robots-Tag:noindex
X-PUBLISHED-TTL:PT1H
BEGIN:VTIMEZONE
TZID:America/New_York
BEGIN:DAYLIGHT
TZOFFSETFROM:-0500
TZOFFSETTO:-0400
TZNAME:EDT
DTSTART:20240310T070000
END:DAYLIGHT
BEGIN:STANDARD
TZOFFSETFROM:-0400
TZOFFSETTO:-0500
TZNAME:EST
DTSTART:20241103T060000
END:STANDARD
BEGIN:DAYLIGHT
TZOFFSETFROM:-0500
TZOFFSETTO:-0400
TZNAME:EDT
DTSTART:20250309T070000
END:DAYLIGHT
BEGIN:STANDARD
TZOFFSETFROM:-0400
TZOFFSETTO:-0500
TZNAME:EST
DTSTART:20251102T060000
END:STANDARD
BEGIN:DAYLIGHT
TZOFFSETFROM:-0500
TZOFFSETTO:-0400
TZNAME:EDT
DTSTART:20260308T070000
END:DAYLIGHT
BEGIN:STANDARD
TZOFFSETFROM:-0400
TZOFFSETTO:-0500
TZNAME:EST
DTSTART:20261101T060000
END:STANDARD
END:VTIMEZONE
BEGIN:VEVENT
DTSTART;TZID=America/New_York:20250107T170000
DTEND;TZID=America/New_York:20250107T200000
DTSTAMP:20260423T051709
CREATED:20250106T201604Z
LAST-MODIFIED:20250106T201604Z
UID:10000023-1736269200-1736280000@backyardsportsbarmb.com
SUMMARY:JP Taylor
DESCRIPTION:
URL:https://backyardsportsbarmb.com/event/jp-taylor/2025-01-07/
CATEGORIES:Live Music
END:VEVENT
BEGIN:VEVENT
DTSTART;TZID=America/New_York:20250108T170000
DTEND;TZID=America/New_York:20250108T200000
DTSTAMP:20260423T051709
CREATED:20250106T201907Z
LAST-MODIFIED:20250106T201907Z
UID:10000027-1736355600-1736366400@backyardsportsbarmb.com
SUMMARY:Austin Perry
DESCRIPTION:
URL:https://backyardsportsbarmb.com/event/austin-perry-2/2025-01-08/
CATEGORIES:Live Music
END:VEVENT
BEGIN:VEVENT
DTSTART;TZID=America/New_York:20250110T170000
DTEND;TZID=America/New_York:20250110T200000
DTSTAMP:20260423T051709
CREATED:20250106T202126Z
LAST-MODIFIED:20250106T202126Z
UID:10000032-1736528400-1736539200@backyardsportsbarmb.com
SUMMARY:Greg Dalton
DESCRIPTION:
URL:https://backyardsportsbarmb.com/event/greg-dalton-2/2025-01-10/
CATEGORIES:Live Music
END:VEVENT
BEGIN:VEVENT
DTSTART;TZID=America/New_York:20250114T170000
DTEND;TZID=America/New_York:20250114T200000
DTSTAMP:20260423T051709
CREATED:20250106T202419Z
LAST-MODIFIED:20250106T202419Z
UID:10000037-1736874000-1736884800@backyardsportsbarmb.com
SUMMARY:Zachary Patton
DESCRIPTION:
URL:https://backyardsportsbarmb.com/event/zachary-patton/2025-01-14/
CATEGORIES:Live Music
END:VEVENT
BEGIN:VEVENT
DTSTART;TZID=America/New_York:20250115T170000
DTEND;TZID=America/New_York:20250115T200000
DTSTAMP:20260423T051709
CREATED:20250106T202626Z
LAST-MODIFIED:20250106T202626Z
UID:10000042-1736960400-1736971200@backyardsportsbarmb.com
SUMMARY:Brendan Kirby
DESCRIPTION:
URL:https://backyardsportsbarmb.com/event/brendan-kirby/2025-01-15/
CATEGORIES:Live Music
END:VEVENT
BEGIN:VEVENT
DTSTART;TZID=America/New_York:20250117T170000
DTEND;TZID=America/New_York:20250117T200000
DTSTAMP:20260423T051709
CREATED:20250106T202835Z
LAST-MODIFIED:20250106T202835Z
UID:10000047-1737133200-1737144000@backyardsportsbarmb.com
SUMMARY:Davy Stone
DESCRIPTION:
URL:https://backyardsportsbarmb.com/event/davy-stone/2025-01-17/
CATEGORIES:Live Music
END:VEVENT
BEGIN:VEVENT
DTSTART;TZID=America/New_York:20250121T170000
DTEND;TZID=America/New_York:20250121T200000
DTSTAMP:20260423T051709
CREATED:20250106T203033Z
LAST-MODIFIED:20250106T203033Z
UID:10000051-1737478800-1737489600@backyardsportsbarmb.com
SUMMARY:David Fair
DESCRIPTION:
URL:https://backyardsportsbarmb.com/event/david-fair-2/2025-01-21/
CATEGORIES:Live Music
END:VEVENT
BEGIN:VEVENT
DTSTART;TZID=America/New_York:20250122T170000
DTEND;TZID=America/New_York:20250122T200000
DTSTAMP:20260423T051709
CREATED:20250106T203230Z
LAST-MODIFIED:20250106T203230Z
UID:10000054-1737565200-1737576000@backyardsportsbarmb.com
SUMMARY:Matt Lambe
DESCRIPTION:
URL:https://backyardsportsbarmb.com/event/matt-lambe-2/2025-01-22/
CATEGORIES:Live Music
END:VEVENT
BEGIN:VEVENT
DTSTART;TZID=America/New_York:20250124T170000
DTEND;TZID=America/New_York:20250124T200000
DTSTAMP:20260423T051709
CREATED:20250106T204515Z
LAST-MODIFIED:20250106T204515Z
UID:10000060-1737738000-1737748800@backyardsportsbarmb.com
SUMMARY:Randy Clifton
DESCRIPTION:
URL:https://backyardsportsbarmb.com/event/randy-clifton/2025-01-24/
CATEGORIES:Live Music
END:VEVENT
BEGIN:VEVENT
DTSTART;TZID=America/New_York:20250128T170000
DTEND;TZID=America/New_York:20250128T200000
DTSTAMP:20260423T051709
CREATED:20250106T204646Z
LAST-MODIFIED:20250106T204646Z
UID:10000064-1738083600-1738094400@backyardsportsbarmb.com
SUMMARY:Dustin Brown
DESCRIPTION:
URL:https://backyardsportsbarmb.com/event/dustin-brown/2025-01-28/
CATEGORIES:Live Music
END:VEVENT
BEGIN:VEVENT
DTSTART;TZID=America/New_York:20250129T170000
DTEND;TZID=America/New_York:20250129T200000
DTSTAMP:20260423T051710
CREATED:20250106T204913Z
LAST-MODIFIED:20250106T204913Z
UID:10000068-1738170000-1738180800@backyardsportsbarmb.com
SUMMARY:Ronnie O'Briant
DESCRIPTION:
URL:https://backyardsportsbarmb.com/event/ronnie-obriant/2025-01-29/
CATEGORIES:Live Music
END:VEVENT
BEGIN:VEVENT
DTSTART;TZID=America/New_York:20250131T170000
DTEND;TZID=America/New_York:20250131T200000
DTSTAMP:20260423T051710
CREATED:20250106T205055Z
LAST-MODIFIED:20250106T205055Z
UID:10000074-1738342800-1738353600@backyardsportsbarmb.com
SUMMARY:Owen Reeves
DESCRIPTION:
URL:https://backyardsportsbarmb.com/event/owen-reeves-2/2025-01-31/
CATEGORIES:Live Music
END:VEVENT
END:VCALENDAR